View In:
ArcGIS JavaScript
ArcGIS Online Map Viewer
ArcGIS Earth
Service Description: Ayres Associates provided Vernon County, Wisconsin with digital, 4-band orthoimagery services in 2020 as part of WROC. The aerial imagery was collected on March 30th and April 5th using a Leica ADS100 sensor mounted in a fixed-wing aircraft. Aerial imagery was collected to support 0.5 foot ground sample distance (GSD) orthoimagery to meet ASPRS Class II horizontal accuracy specifications at 1" = 100' map scale. The 6-inch pixel orthoimagery was produced to meet or exceed a horizontal accuracy of 1.4 feet RMSE according to ASPRS Positional Accuracy Standards for Digital Geospatial Data. Resultant orthoimagery was rectified to a DEM created from newly acquired LiDAR collected in 2020. Orthoimagery was delivered in PLSS section GeoTiff and MrSID tiles and a project wide MrSID mosaic. The project area covers approximately 816 square miles. Supplemental Information: The Wisconsin Regional Orthoimagery Consortium (WROC) is a multi-entity group of county members and partners led by regional planning commissions (RPCs) and WROC representatives from Ayres Associates. The goal of the consortium is to build and sustain a multi-participant program to acquire digital orthoimagery and elevation data throughout Wisconsin. Orthoimagery was collected for Vernon County in 2020 to provide consistent deliverable products and accuracy standards for each of the participating entities.
Name: ImageServices/Vernon_County_DOP_2020
Description: Ayres Associates provided Vernon County, Wisconsin with digital, 4-band orthoimagery services in 2020 as part of WROC. The aerial imagery was collected on March 30th and April 5th using a Leica ADS100 sensor mounted in a fixed-wing aircraft. Aerial imagery was collected to support 0.5 foot ground sample distance (GSD) orthoimagery to meet ASPRS Class II horizontal accuracy specifications at 1" = 100' map scale. The 6-inch pixel orthoimagery was produced to meet or exceed a horizontal accuracy of 1.4 feet RMSE according to ASPRS Positional Accuracy Standards for Digital Geospatial Data. Resultant orthoimagery was rectified to a DEM created from newly acquired LiDAR collected in 2020. Orthoimagery was delivered in PLSS section GeoTiff and MrSID tiles and a project wide MrSID mosaic. The project area covers approximately 816 square miles. Supplemental Information: The Wisconsin Regional Orthoimagery Consortium (WROC) is a multi-entity group of county members and partners led by regional planning commissions (RPCs) and WROC representatives from Ayres Associates. The goal of the consortium is to build and sustain a multi-participant program to acquire digital orthoimagery and elevation data throughout Wisconsin. Orthoimagery was collected for Vernon County in 2020 to provide consistent deliverable products and accuracy standards for each of the participating entities.
Single Fused Map Cache: false
Extent:
XMin: 597321.0
YMin: 98852.5
XMax: 856857.5
YMax: 214682.0
Spatial Reference: 0
(0)
LatestVCSWkid(0)
Initial Extent:
XMin: 597321.0
YMin: 98852.5
XMax: 856857.5
YMax: 214682.0
Spatial Reference: 0
(0)
LatestVCSWkid(0)
Full Extent:
XMin: 597321.0
YMin: 98852.5
XMax: 856857.5
YMax: 214682.0
Spatial Reference: 0
(0)
LatestVCSWkid(0)
Pixel Size X: 0.5
Pixel Size Y: 0.5
Band Count: 5
Pixel Type: U8
RasterFunction Infos: {"rasterFunctionInfos": [{
"name": "None",
"description": "",
"help": ""
}]}
Mensuration Capabilities: Basic
Inspection Capabilities:
Has Histograms: true
Has Colormap: false
Has Multi Dimensions : false
Rendering Rule:
Min Scale: 0
Max Scale: 0
Copyright Text:
Service Data Type: esriImageServiceDataTypeGeneric
Min Values: 0, 0, 0, 0, 0
Max Values: 223, 206, 178, 238, 255
Mean Values: 103.77662660588, 98.41469816273, 87.669015057328, 108.66169360409, 217.69567619837
Standard Deviation Values: 52.295582872862, 48.588391157053, 41.404298352941, 60.156454954975, 90.049933635074
Object ID Field:
Fields:
None
Default Mosaic Method: Center
Allowed Mosaic Methods:
SortField:
SortValue: null
Mosaic Operator: First
Default Compression Quality: 75
Default Resampling Method: Bilinear
Max Record Count: null
Max Image Height: 4100
Max Image Width: 15000
Max Download Image Count: null
Max Mosaic Image Count: null
Allow Raster Function: true
Allow Copy: true
Allow Analysis: true
Allow Compute TiePoints: false
Supports Statistics: false
Supports Advanced Queries: false
Use StandardizedQueries: true
Raster Type Infos:
Name: Raster Dataset
Description: Supports all ArcGIS Raster Datasets
Help:
Has Raster Attribute Table: false
Edit Fields Info: null
Ownership Based AccessControl For Rasters: null
Child Resources:
Info
Histograms
Statistics
Key Properties
Legend
Raster Function Infos
Supported Operations:
Export Image
Identify
Measure
Compute Histograms
Compute Statistics Histograms
Get Samples
Compute Class Statistics
Query Boundary
Compute Pixel Location
Compute Angles
Validate
Project