{
 "currentVersion": 11.5,
 "serviceDescription": "Ayres Associates provided Vernon County, Wisconsin with digital, 4-band orthoimagery services in 2020 as part of WROC. The aerial imagery was collected on March 30th and April 5th using a Leica ADS100 sensor mounted in a fixed-wing aircraft. Aerial imagery was collected to support 0.5 foot ground sample distance (GSD) orthoimagery to meet ASPRS Class II horizontal accuracy specifications at 1\" = 100' map scale. The 6-inch pixel orthoimagery was produced to meet or exceed a horizontal accuracy of 1.4 feet RMSE according to ASPRS Positional Accuracy Standards for Digital Geospatial Data. Resultant orthoimagery was rectified to a DEM created from newly acquired LiDAR collected in 2020. Orthoimagery was delivered in PLSS section GeoTiff and MrSID tiles and a project wide MrSID mosaic. The project area covers approximately 816 square miles. Supplemental Information: The Wisconsin Regional Orthoimagery Consortium (WROC) is a multi-entity group of county members and partners led by regional planning commissions (RPCs) and WROC representatives from Ayres Associates. The goal of the consortium is to build and sustain a multi-participant program to acquire digital orthoimagery and elevation data throughout Wisconsin. Orthoimagery was collected for Vernon County in 2020 to provide consistent deliverable products and accuracy standards for each of the participating entities.",
 "serviceItemId": "16cd646fd724402ebce97818cda780d7",
 "name": "ImageServices/Vernon_County_DOP_2020",
 "description": "Ayres Associates provided Vernon County, Wisconsin with digital, 4-band orthoimagery services in 2020 as part of WROC. The aerial imagery was collected on March 30th and April 5th using a Leica ADS100 sensor mounted in a fixed-wing aircraft. Aerial imagery was collected to support 0.5 foot ground sample distance (GSD) orthoimagery to meet ASPRS Class II horizontal accuracy specifications at 1\" = 100' map scale. The 6-inch pixel orthoimagery was produced to meet or exceed a horizontal accuracy of 1.4 feet RMSE according to ASPRS Positional Accuracy Standards for Digital Geospatial Data. Resultant orthoimagery was rectified to a DEM created from newly acquired LiDAR collected in 2020. Orthoimagery was delivered in PLSS section GeoTiff and MrSID tiles and a project wide MrSID mosaic. The project area covers approximately 816 square miles. Supplemental Information: The Wisconsin Regional Orthoimagery Consortium (WROC) is a multi-entity group of county members and partners led by regional planning commissions (RPCs) and WROC representatives from Ayres Associates. The goal of the consortium is to build and sustain a multi-participant program to acquire digital orthoimagery and elevation data throughout Wisconsin. Orthoimagery was collected for Vernon County in 2020 to provide consistent deliverable products and accuracy standards for each of the participating entities.",
 "extent": {
  "xmin": 597321,
  "ymin": 98852.5,
  "xmax": 856857.5,
  "ymax": 214682,
  "spatialReference": {
   "wkt2": "COMPOUNDCRS[\"\",PROJCRS[\"NAD_1983_2011_WISCRS_Vernon_Feet\",BASEGEOGCRS[\"GCS_NAD_1983_2011\",DYNAMIC[FRAMEEPOCH[2010.0],MODEL[\"HTDP\"]],DATUM[\"D_NAD_1983_2011\",ELLIPSOID[\"GRS_1980\",6378137.0,298.257222101,LENGTHUNIT[\"Meter\",1.0]]],PRIMEM[\"Greenwich\",0.0,ANGLEUNIT[\"Degree\",0.0174532925199433]],CS[ellipsoidal,2],AXIS[\"Latitude (lat)\",north,ORDER[1]],AXIS[\"Longitude (lon)\",east,ORDER[2]],ANGLEUNIT[\"Degree\",0.0174532925199433]],CONVERSION[\"Lambert_Conformal_Conic\",METHOD[\"Lambert_Conformal_Conic\"],PARAMETER[\"False_Easting\",730000.0,LENGTHUNIT[\"Foot_US\",0.3048006096012192]],PARAMETER[\"False_Northing\",155944.768,LENGTHUNIT[\"Foot_US\",0.3048006096012192]],PARAMETER[\"Central_Meridian\",-90.78333333333333,ANGLEUNIT[\"Degree\",0.0174532925199433]],PARAMETER[\"Standard_Parallel_1\",43.57503293972223,ANGLEUNIT[\"Degree\",0.0174532925199433]],PARAMETER[\"Scale_Factor\",1.0000408158,SCALEUNIT[\"Unity\",1.0]],PARAMETER[\"Latitude_Of_Origin\",43.57503293972223,ANGLEUNIT[\"Degree\",0.0174532925199433]]],CS[Cartesian,2],AXIS[\"Easting (X)\",east,ORDER[1]],AXIS[\"Northing (Y)\",north,ORDER[2]],LENGTHUNIT[\"Foot_US\",0.3048006096012192]],VERTCRS[\"VCS_Name_NAVD88_height_-_Geoid12B_ftUS_Datum_Name_North_American_Vertical_Datum_\",VDATUM[\"North_American_Vertical_Datum_1988\"],CS[vertical,1],AXIS[\"Gravity-related height (H)\",up,LENGTHUNIT[\"Foot_US\",0.3048006096012192]]]]",
   "wkt": "PROJCS[\"NAD_1983_2011_WISCRS_Vernon_Feet\",GEOGCS[\"GCS_NAD_1983_2011\",DATUM[\"D_NAD_1983_2011\",SPHEROID[\"GRS_1980\",6378137.0,298.257222101]],PRIMEM[\"Greenwich\",0.0],UNIT[\"Degree\",0.0174532925199433]],PROJECTION[\"Lambert_Conformal_Conic\"],PARAMETER[\"False_Easting\",730000.0],PARAMETER[\"False_Northing\",155944.768],PARAMETER[\"Central_Meridian\",-90.78333333333333],PARAMETER[\"Standard_Parallel_1\",43.57503293972223],PARAMETER[\"Scale_Factor\",1.0000408158],PARAMETER[\"Latitude_Of_Origin\",43.57503293972223],UNIT[\"Foot_US\",0.3048006096012192]],VERTCS[\"VCS_Name_NAVD88_height_-_Geoid12B_ftUS_Datum_Name_North_American_Vertical_Datum_\",VDATUM[\"North_American_Vertical_Datum_1988\"],PARAMETER[\"Vertical_Shift\",0.0],PARAMETER[\"Direction\",1.0],UNIT[\"Foot_US\",0.3048006096012192]]"
  }
 },
 "initialExtent": {
  "xmin": 597321,
  "ymin": 98852.5,
  "xmax": 856857.5,
  "ymax": 214682,
  "spatialReference": {
   "wkt2": "COMPOUNDCRS[\"\",PROJCRS[\"NAD_1983_2011_WISCRS_Vernon_Feet\",BASEGEOGCRS[\"GCS_NAD_1983_2011\",DYNAMIC[FRAMEEPOCH[2010.0],MODEL[\"HTDP\"]],DATUM[\"D_NAD_1983_2011\",ELLIPSOID[\"GRS_1980\",6378137.0,298.257222101,LENGTHUNIT[\"Meter\",1.0]]],PRIMEM[\"Greenwich\",0.0,ANGLEUNIT[\"Degree\",0.0174532925199433]],CS[ellipsoidal,2],AXIS[\"Latitude (lat)\",north,ORDER[1]],AXIS[\"Longitude (lon)\",east,ORDER[2]],ANGLEUNIT[\"Degree\",0.0174532925199433]],CONVERSION[\"Lambert_Conformal_Conic\",METHOD[\"Lambert_Conformal_Conic\"],PARAMETER[\"False_Easting\",730000.0,LENGTHUNIT[\"Foot_US\",0.3048006096012192]],PARAMETER[\"False_Northing\",155944.768,LENGTHUNIT[\"Foot_US\",0.3048006096012192]],PARAMETER[\"Central_Meridian\",-90.78333333333333,ANGLEUNIT[\"Degree\",0.0174532925199433]],PARAMETER[\"Standard_Parallel_1\",43.57503293972223,ANGLEUNIT[\"Degree\",0.0174532925199433]],PARAMETER[\"Scale_Factor\",1.0000408158,SCALEUNIT[\"Unity\",1.0]],PARAMETER[\"Latitude_Of_Origin\",43.57503293972223,ANGLEUNIT[\"Degree\",0.0174532925199433]]],CS[Cartesian,2],AXIS[\"Easting (X)\",east,ORDER[1]],AXIS[\"Northing (Y)\",north,ORDER[2]],LENGTHUNIT[\"Foot_US\",0.3048006096012192]],VERTCRS[\"VCS_Name_NAVD88_height_-_Geoid12B_ftUS_Datum_Name_North_American_Vertical_Datum_\",VDATUM[\"North_American_Vertical_Datum_1988\"],CS[vertical,1],AXIS[\"Gravity-related height (H)\",up,LENGTHUNIT[\"Foot_US\",0.3048006096012192]]]]",
   "wkt": "PROJCS[\"NAD_1983_2011_WISCRS_Vernon_Feet\",GEOGCS[\"GCS_NAD_1983_2011\",DATUM[\"D_NAD_1983_2011\",SPHEROID[\"GRS_1980\",6378137.0,298.257222101]],PRIMEM[\"Greenwich\",0.0],UNIT[\"Degree\",0.0174532925199433]],PROJECTION[\"Lambert_Conformal_Conic\"],PARAMETER[\"False_Easting\",730000.0],PARAMETER[\"False_Northing\",155944.768],PARAMETER[\"Central_Meridian\",-90.78333333333333],PARAMETER[\"Standard_Parallel_1\",43.57503293972223],PARAMETER[\"Scale_Factor\",1.0000408158],PARAMETER[\"Latitude_Of_Origin\",43.57503293972223],UNIT[\"Foot_US\",0.3048006096012192]],VERTCS[\"VCS_Name_NAVD88_height_-_Geoid12B_ftUS_Datum_Name_North_American_Vertical_Datum_\",VDATUM[\"North_American_Vertical_Datum_1988\"],PARAMETER[\"Vertical_Shift\",0.0],PARAMETER[\"Direction\",1.0],UNIT[\"Foot_US\",0.3048006096012192]]"
  }
 },
 "fullExtent": {
  "xmin": 597321,
  "ymin": 98852.5,
  "xmax": 856857.5,
  "ymax": 214682,
  "spatialReference": {
   "wkt2": "COMPOUNDCRS[\"\",PROJCRS[\"NAD_1983_2011_WISCRS_Vernon_Feet\",BASEGEOGCRS[\"GCS_NAD_1983_2011\",DYNAMIC[FRAMEEPOCH[2010.0],MODEL[\"HTDP\"]],DATUM[\"D_NAD_1983_2011\",ELLIPSOID[\"GRS_1980\",6378137.0,298.257222101,LENGTHUNIT[\"Meter\",1.0]]],PRIMEM[\"Greenwich\",0.0,ANGLEUNIT[\"Degree\",0.0174532925199433]],CS[ellipsoidal,2],AXIS[\"Latitude (lat)\",north,ORDER[1]],AXIS[\"Longitude (lon)\",east,ORDER[2]],ANGLEUNIT[\"Degree\",0.0174532925199433]],CONVERSION[\"Lambert_Conformal_Conic\",METHOD[\"Lambert_Conformal_Conic\"],PARAMETER[\"False_Easting\",730000.0,LENGTHUNIT[\"Foot_US\",0.3048006096012192]],PARAMETER[\"False_Northing\",155944.768,LENGTHUNIT[\"Foot_US\",0.3048006096012192]],PARAMETER[\"Central_Meridian\",-90.78333333333333,ANGLEUNIT[\"Degree\",0.0174532925199433]],PARAMETER[\"Standard_Parallel_1\",43.57503293972223,ANGLEUNIT[\"Degree\",0.0174532925199433]],PARAMETER[\"Scale_Factor\",1.0000408158,SCALEUNIT[\"Unity\",1.0]],PARAMETER[\"Latitude_Of_Origin\",43.57503293972223,ANGLEUNIT[\"Degree\",0.0174532925199433]]],CS[Cartesian,2],AXIS[\"Easting (X)\",east,ORDER[1]],AXIS[\"Northing (Y)\",north,ORDER[2]],LENGTHUNIT[\"Foot_US\",0.3048006096012192]],VERTCRS[\"VCS_Name_NAVD88_height_-_Geoid12B_ftUS_Datum_Name_North_American_Vertical_Datum_\",VDATUM[\"North_American_Vertical_Datum_1988\"],CS[vertical,1],AXIS[\"Gravity-related height (H)\",up,LENGTHUNIT[\"Foot_US\",0.3048006096012192]]]]",
   "wkt": "PROJCS[\"NAD_1983_2011_WISCRS_Vernon_Feet\",GEOGCS[\"GCS_NAD_1983_2011\",DATUM[\"D_NAD_1983_2011\",SPHEROID[\"GRS_1980\",6378137.0,298.257222101]],PRIMEM[\"Greenwich\",0.0],UNIT[\"Degree\",0.0174532925199433]],PROJECTION[\"Lambert_Conformal_Conic\"],PARAMETER[\"False_Easting\",730000.0],PARAMETER[\"False_Northing\",155944.768],PARAMETER[\"Central_Meridian\",-90.78333333333333],PARAMETER[\"Standard_Parallel_1\",43.57503293972223],PARAMETER[\"Scale_Factor\",1.0000408158],PARAMETER[\"Latitude_Of_Origin\",43.57503293972223],UNIT[\"Foot_US\",0.3048006096012192]],VERTCS[\"VCS_Name_NAVD88_height_-_Geoid12B_ftUS_Datum_Name_North_American_Vertical_Datum_\",VDATUM[\"North_American_Vertical_Datum_1988\"],PARAMETER[\"Vertical_Shift\",0.0],PARAMETER[\"Direction\",1.0],UNIT[\"Foot_US\",0.3048006096012192]]"
  }
 },
 "sortableFields": "",
 "heightModelInfo": {
  "heightModel": "gravity_related_height",
  "vertCRS": "VCS_Name_NAVD88_height_-_Geoid12B_ftUS_Datum_Name_North_American_Vertical_Datum_",
  "heightUnit": "us-foot"
 },
 "bandCount": 5,
 "pixelType": "U8",
 "minValues": [
  0,
  0,
  0,
  0,
  0
 ],
 "maxValues": [
  223,
  206,
  178,
  238,
  255
 ],
 "meanValues": [
  103.77662660588,
  98.41469816273,
  87.669015057328,
  108.66169360409,
  217.69567619837
 ],
 "stdvValues": [
  52.295582872862,
  48.588391157053,
  41.404298352941,
  60.156454954975,
  90.049933635074
 ],
 "serviceProperties": "Center<\/MosaicMethod>First<\/MosaicOperator>true<\/SortAscending><\/LockImageID><\/TileOrderField>0<\/TileOrderBase>0.000000<\/AvgImageSpacingX>0.000000<\/AvgImageSpacingY>0.0<\/ViewPointX>0.0<\/ViewPointY>0.0<\/ViewPointDefShiftX>0.0<\/ViewPointDefShiftY>None<\/CompressionMethod>75<\/CompressionQuality>0.010000<\/CompressionTolerance>Bilinear<\/SamplingMethod><\/ImageServiceProperties><\/ImageServer>",
 "allowedFields": "",
 "hasMultidimensions": false,
 "pixelSizeX": 0.5,
 "pixelSizeY": 0.5,
 "meanPixelSize": 0.15240030480060962,
 "datasetFormat": "MrSID",
 "uncompressedSize": 601239660535,
 "blockWidth": 1024,
 "blockHeight": 128,
 "compressionType": "Wavelet (MG4)",
 "bandNames": [
  "Band_1",
  "Band_2",
  "Band_3",
  "Band_4",
  "Band_5"
 ],
 "allowCopy": true,
 "allowAnalysis": true,
 "itemAccess": false,
 "inspectionCapabilities": "",
 "minPixelSize": 0,
 "maxPixelSize": 0,
 "copyrightText": "",
 "serviceDataType": "esriImageServiceDataTypeGeneric",
 "serviceSourceType": "esriImageServiceSourceTypeDataset",
 "objectIdField": "",
 "fields": [],
 "capabilities": "Image,Metadata,Mensuration",
 "defaultMosaicMethod": "Center",
 "allowedMosaicMethods": "",
 "sortField": "",
 "sortValue": null,
 "sortAscending": true,
 "mosaicOperator": "First",
 "defaultCompressionQuality": 75,
 "defaultResamplingMethod": "Bilinear",
 "maxImageHeight": 4100,
 "maxImageWidth": 15000,
 "allowRasterFunction": true,
 "rasterFunctionInfos": [
  {
   "name": "None",
   "description": "",
   "help": ""
  }
 ],
 "rasterTypeInfos": [
  {
   "name": "Raster Dataset",
   "description": "Supports all ArcGIS Raster Datasets",
   "help": ""
  }
 ],
 "mensurationCapabilities": "Basic",
 "hasHistograms": true,
 "hasColormap": false,
 "hasRasterAttributeTable": false,
 "minScale": 0,
 "maxScale": 0,
 "exportTilesAllowed": false,
 "supportsStatistics": false,
 "supportsAdvancedQueries": false,
 "editFieldsInfo": null,
 "ownershipBasedAccessControlForRasters": null,
 "allowComputeTiePoints": false,
 "useStandardizedQueries": true,
 "advancedQueryCapabilities": {
  "useStandardizedQueries": true,
  "supportsStatistics": false,
  "supportsOrderBy": false,
  "supportsDistinct": false,
  "supportsPagination": false
 },
 "spatialReference": {
  "wkt2": "COMPOUNDCRS[\"\",PROJCRS[\"NAD_1983_2011_WISCRS_Vernon_Feet\",BASEGEOGCRS[\"GCS_NAD_1983_2011\",DYNAMIC[FRAMEEPOCH[2010.0],MODEL[\"HTDP\"]],DATUM[\"D_NAD_1983_2011\",ELLIPSOID[\"GRS_1980\",6378137.0,298.257222101,LENGTHUNIT[\"Meter\",1.0]]],PRIMEM[\"Greenwich\",0.0,ANGLEUNIT[\"Degree\",0.0174532925199433]],CS[ellipsoidal,2],AXIS[\"Latitude (lat)\",north,ORDER[1]],AXIS[\"Longitude (lon)\",east,ORDER[2]],ANGLEUNIT[\"Degree\",0.0174532925199433]],CONVERSION[\"Lambert_Conformal_Conic\",METHOD[\"Lambert_Conformal_Conic\"],PARAMETER[\"False_Easting\",730000.0,LENGTHUNIT[\"Foot_US\",0.3048006096012192]],PARAMETER[\"False_Northing\",155944.768,LENGTHUNIT[\"Foot_US\",0.3048006096012192]],PARAMETER[\"Central_Meridian\",-90.78333333333333,ANGLEUNIT[\"Degree\",0.0174532925199433]],PARAMETER[\"Standard_Parallel_1\",43.57503293972223,ANGLEUNIT[\"Degree\",0.0174532925199433]],PARAMETER[\"Scale_Factor\",1.0000408158,SCALEUNIT[\"Unity\",1.0]],PARAMETER[\"Latitude_Of_Origin\",43.57503293972223,ANGLEUNIT[\"Degree\",0.0174532925199433]]],CS[Cartesian,2],AXIS[\"Easting (X)\",east,ORDER[1]],AXIS[\"Northing (Y)\",north,ORDER[2]],LENGTHUNIT[\"Foot_US\",0.3048006096012192]],VERTCRS[\"VCS_Name_NAVD88_height_-_Geoid12B_ftUS_Datum_Name_North_American_Vertical_Datum_\",VDATUM[\"North_American_Vertical_Datum_1988\"],CS[vertical,1],AXIS[\"Gravity-related height (H)\",up,LENGTHUNIT[\"Foot_US\",0.3048006096012192]]]]",
  "wkt": "PROJCS[\"NAD_1983_2011_WISCRS_Vernon_Feet\",GEOGCS[\"GCS_NAD_1983_2011\",DATUM[\"D_NAD_1983_2011\",SPHEROID[\"GRS_1980\",6378137.0,298.257222101]],PRIMEM[\"Greenwich\",0.0],UNIT[\"Degree\",0.0174532925199433]],PROJECTION[\"Lambert_Conformal_Conic\"],PARAMETER[\"False_Easting\",730000.0],PARAMETER[\"False_Northing\",155944.768],PARAMETER[\"Central_Meridian\",-90.78333333333333],PARAMETER[\"Standard_Parallel_1\",43.57503293972223],PARAMETER[\"Scale_Factor\",1.0000408158],PARAMETER[\"Latitude_Of_Origin\",43.57503293972223],UNIT[\"Foot_US\",0.3048006096012192]],VERTCS[\"VCS_Name_NAVD88_height_-_Geoid12B_ftUS_Datum_Name_North_American_Vertical_Datum_\",VDATUM[\"North_American_Vertical_Datum_1988\"],PARAMETER[\"Vertical_Shift\",0.0],PARAMETER[\"Direction\",1.0],UNIT[\"Foot_US\",0.3048006096012192]]"
 }
}
