<?xml version="1.0" encoding="UTF-8" standalone="no"?>
<metadata xml:lang="en">
<Esri>
<CreaDate>20210428</CreaDate>
<CreaTime>14444400</CreaTime>
<ArcGISFormat>1.0</ArcGISFormat>
<ArcGISstyle>FGDC CSDGM Metadata</ArcGISstyle>
<SyncOnce>FALSE</SyncOnce>
<DataProperties>
<itemProps>
<itemName Sync="TRUE">Vernon_Co_2020.sid</itemName>
<itemLocation>
<linkage Sync="TRUE">file://U:\ORTHO\WROC_Vernon_Co_ortho_2020\Finals\Thru_PS\MrSIDs\Vernon_Co_2020.sid</linkage>
<protocol Sync="TRUE">Local Area Network</protocol>
</itemLocation>
<imsContentType Sync="TRUE" export="False">002</imsContentType>
<nativeExtBox>
<westBL Sync="TRUE">597321.000000</westBL>
<eastBL Sync="TRUE">856857.500000</eastBL>
<southBL Sync="TRUE">98852.500000</southBL>
<northBL Sync="TRUE">214682.000000</northBL>
<exTypeCode Sync="TRUE">1</exTypeCode>
</nativeExtBox>
</itemProps>
<coordRef>
<type Sync="TRUE">Projected</type>
<geogcsn Sync="TRUE">GCS_NAD83_2011</geogcsn>
<csUnits Sync="TRUE">Linear Unit: Foot_US (0.304801)</csUnits>
<projcsn Sync="TRUE">NAD_1983_2011_WISCRS_Vernon_Feet</projcsn>
<peXml Sync="TRUE">&lt;ProjectedCoordinateSystem xsi:type='typens:ProjectedCoordinateSystem' xmlns:xsi='http://www.w3.org/2001/XMLSchema-instance' xmlns:xs='http://www.w3.org/2001/XMLSchema' xmlns:typens='http://www.esri.com/schemas/ArcGIS/10.7'&gt;&lt;WKT&gt;PROJCS[&amp;quot;NAD_1983_2011_WISCRS_Vernon_Feet&amp;quot;,GEOGCS[&amp;quot;GCS_NAD83_2011&amp;quot;,DATUM[&amp;quot;D_NAD83_National_Spatial_Reference_System_2011&amp;quot;,SPHEROID[&amp;quot;GRS_1980&amp;quot;,6378137.0,298.257222101]],PRIMEM[&amp;quot;Greenwich&amp;quot;,0.0],UNIT[&amp;quot;Degree&amp;quot;,0.0174532925199433]],PROJECTION[&amp;quot;Lambert_Conformal_Conic&amp;quot;],PARAMETER[&amp;quot;false_easting&amp;quot;,730000.0],PARAMETER[&amp;quot;false_northing&amp;quot;,155944.768],PARAMETER[&amp;quot;central_meridian&amp;quot;,-90.78333333333333],PARAMETER[&amp;quot;standard_parallel_1&amp;quot;,43.57503293972223],PARAMETER[&amp;quot;scale_factor&amp;quot;,1.0000408158],PARAMETER[&amp;quot;latitude_of_origin&amp;quot;,43.57503293972223],UNIT[&amp;quot;Foot_US&amp;quot;,0.3048006096012192]],VERTCS[&amp;quot;VCS Name = NAVD88 height - Geoid12B (ftUS)|Datum Name = North American Vertical&amp;quot;,VDATUM[&amp;quot;North American Vertical Datum 1988&amp;quot;],PARAMETER[&amp;quot;Vertical_Shift&amp;quot;,0.0],PARAMETER[&amp;quot;Direction&amp;quot;,1.0],UNIT[&amp;quot;US survey foot&amp;quot;,0.3048006096012192]]&lt;/WKT&gt;&lt;XOrigin&gt;-119313300&lt;/XOrigin&gt;&lt;YOrigin&gt;-97858200&lt;/YOrigin&gt;&lt;XYScale&gt;37516459.705543704&lt;/XYScale&gt;&lt;ZOrigin&gt;-100000&lt;/ZOrigin&gt;&lt;ZScale&gt;3048.0060960121918&lt;/ZScale&gt;&lt;MOrigin&gt;-100000&lt;/MOrigin&gt;&lt;MScale&gt;10000&lt;/MScale&gt;&lt;XYTolerance&gt;0.0032808333333333331&lt;/XYTolerance&gt;&lt;ZTolerance&gt;0.0032808333333333335&lt;/ZTolerance&gt;&lt;MTolerance&gt;0.001&lt;/MTolerance&gt;&lt;HighPrecision&gt;true&lt;/HighPrecision&gt;&lt;/ProjectedCoordinateSystem&gt;</peXml>
</coordRef>
<RasterProperties>
<General>
<PixelDepth Sync="TRUE">8</PixelDepth>
<HasColormap Sync="TRUE">FALSE</HasColormap>
<CompressionType Sync="TRUE">Wavelet (MG4)</CompressionType>
<NumBands Sync="TRUE">5</NumBands>
<Format Sync="TRUE">MrSID</Format>
<HasPyramids Sync="TRUE">TRUE</HasPyramids>
<SourceType Sync="TRUE">continuous</SourceType>
<PixelType Sync="TRUE">unsigned integer</PixelType>
<NoDataValue Sync="TRUE"/>
</General>
</RasterProperties>
</DataProperties>
<SyncDate>20210429</SyncDate>
<SyncTime>13383900</SyncTime>
<ModDate>20210429</ModDate>
<ModTime>13383900</ModTime>
<scaleRange>
<minScale>150000000</minScale>
<maxScale>5000</maxScale>
</scaleRange>
<ArcGISProfile>FGDC</ArcGISProfile>
</Esri>
<dataIdInfo>
<envirDesc Sync="TRUE"> Version 6.2 (Build 9200) ; Esri ArcGIS 10.7.1.11595</envirDesc>
<dataLang>
<languageCode Sync="TRUE" value="eng"/>
<countryCode Sync="TRUE" value="USA"/>
</dataLang>
<idCitation>
<resTitle Sync="TRUE">Vernon County DOP 2020</resTitle>
<presForm>
<PresFormCd Sync="TRUE" value="005"/>
</presForm>
<date>
<createDate>2020-03-30T00:00:00</createDate>
<pubDate>2021-04-28T00:00:00</pubDate>
</date>
<citRespParty>
<rpOrgName>Ayres Associates</rpOrgName>
<role>
<RoleCd value="006"/>
</role>
<rpCntInfo>
<cntAddress addressType="both">
<delPoint>5201 E. Terrace Dr., Suite 200</delPoint>
<city>Madison</city>
<adminArea>Wisconsin</adminArea>
<postCode>53718</postCode>
<country>US</country>
</cntAddress>
<cntPhone>
<voiceNum tddtty="">(608) 443-1200</voiceNum>
<faxNum>(608) 299-2184</faxNum>
</cntPhone>
</rpCntInfo>
</citRespParty>
</idCitation>
<spatRpType>
<SpatRepTypCd Sync="TRUE" value="002"/>
</spatRpType>
<dataExt>
<geoEle>
<GeoBndBox esriExtentType="search">
<exTypeCode Sync="TRUE">1</exTypeCode>
<westBL Sync="TRUE">-91.285294</westBL>
<eastBL Sync="TRUE">-90.303396</eastBL>
<northBL Sync="TRUE">43.736163</northBL>
<southBL Sync="TRUE">43.417318</southBL>
</GeoBndBox>
</geoEle>
</dataExt>
<idPurp>This project established digital, 4-band orthoimagery for Vernon County, Wisconsin as part of the Wisconsin Regional Orthoimagery Consortium (WROC).</idPurp>
<idAbs>Ayres Associates provided Vernon County, Wisconsin with digital, 4-band orthoimagery services in 2020 as part of WROC. The aerial imagery was collected on March 30th and April 5th using a Leica ADS100 sensor mounted in a fixed-wing aircraft. Aerial imagery was collected to support 0.5 foot ground sample distance (GSD) orthoimagery to meet ASPRS Class II horizontal accuracy specifications at 1" = 100' map scale. The 6-inch pixel orthoimagery was produced to meet or exceed a horizontal accuracy of 1.4 feet RMSE according to ASPRS Positional Accuracy Standards for Digital Geospatial Data. Resultant orthoimagery was rectified to a DEM created from newly acquired LiDAR collected in 2020. Orthoimagery was delivered in PLSS section GeoTiff and MrSID tiles and a project wide MrSID mosaic. The project area covers approximately 816 square miles. Supplemental Information: The Wisconsin Regional Orthoimagery Consortium (WROC) is a multi-entity group of county members and partners led by regional planning commissions (RPCs) and WROC representatives from Ayres Associates. The goal of the consortium is to build and sustain a multi-participant program to acquire digital orthoimagery and elevation data throughout Wisconsin. Orthoimagery was collected for Vernon County in 2020 to provide consistent deliverable products and accuracy standards for each of the participating entities.</idAbs>
<searchKeys>
<keyword>digital</keyword>
<keyword>4-band</keyword>
<keyword>orthoimgery</keyword>
<keyword>6-inch</keyword>
</searchKeys>
<resConst>
<Consts>
<useLimit>Not to be used for purposes other than those strictly outlined in the 2020 WROC Vernon County program.</useLimit>
</Consts>
</resConst>
<themeKeys>
<keyword>Wisconsin Regional Orthoimagery Consortium (WROC)</keyword>
</themeKeys>
<placeKeys>
<keyword>Vernon County, Wisconsin</keyword>
</placeKeys>
<dataChar>
<CharSetCd value="004"/>
</dataChar>
<idStatus>
<ProgCd value="001"/>
</idStatus>
<idPoC>
<rpIndName>Doug Avoles</rpIndName>
<rpOrgName>Vernon County</rpOrgName>
<rpPosName>GIS Coordinator/LIO</rpPosName>
<role>
<RoleCd value="007"/>
</role>
<rpCntInfo>
<cntAddress addressType="">
<delPoint>Room 205</delPoint>
<city>Viroqua</city>
<adminArea>Wisconsin</adminArea>
<postCode>54665</postCode>
<eMailAdd>davoles@vernoncounty.org</eMailAdd>
<country>US</country>
</cntAddress>
<cntPhone>
<voiceNum tddtty="">(608) 637-5314</voiceNum>
</cntPhone>
</rpCntInfo>
</idPoC>
<resMaint>
<maintFreq>
<MaintFreqCd value="011"/>
</maintFreq>
</resMaint>
<tpCat>
<TopicCatCd value="010"/>
</tpCat>
<idCredit/>
</dataIdInfo>
<mdLang>
<languageCode Sync="TRUE" value="eng"/>
<countryCode Sync="TRUE" value="USA"/>
</mdLang>
<mdChar>
<CharSetCd Sync="TRUE" value="004"/>
</mdChar>
<distInfo>
<distFormat>
<formatName Sync="TRUE">Raster Dataset</formatName>
</distFormat>
</distInfo>
<mdHrLv>
<ScopeCd Sync="TRUE" value="005"/>
</mdHrLv>
<mdHrLvName Sync="TRUE">dataset</mdHrLvName>
<refSysInfo>
<RefSystem>
<refSysID>
<identCode Sync="TRUE" code="0"/>
<idCodeSpace Sync="TRUE">EPSG</idCodeSpace>
<idVersion Sync="TRUE">8.8(10.4.0)</idVersion>
</refSysID>
</RefSystem>
</refSysInfo>
<spatRepInfo>
<Georect>
<cellGeo>
<CellGeoCd Sync="TRUE" value="002"/>
</cellGeo>
<numDims Sync="TRUE">2</numDims>
<tranParaAv Sync="TRUE">1</tranParaAv>
<chkPtAv Sync="TRUE">0</chkPtAv>
<cornerPts>
<pos Sync="TRUE">597321.000000 98852.500000</pos>
</cornerPts>
<cornerPts>
<pos Sync="TRUE">597321.000000 214682.000000</pos>
</cornerPts>
<cornerPts>
<pos Sync="TRUE">856857.500000 214682.000000</pos>
</cornerPts>
<cornerPts>
<pos Sync="TRUE">856857.500000 98852.500000</pos>
</cornerPts>
<centerPt>
<pos Sync="TRUE">727089.250000 156767.250000</pos>
</centerPt>
<axisDimension type="002">
<dimSize Sync="TRUE">519073</dimSize>
<dimResol>
<value Sync="TRUE" uom="ftUS">0.500000</value>
</dimResol>
</axisDimension>
<axisDimension type="001">
<dimSize Sync="TRUE">231659</dimSize>
<dimResol>
<value Sync="TRUE" uom="ftUS">0.500000</value>
</dimResol>
</axisDimension>
<ptInPixel>
<PixOrientCd Sync="TRUE" value="001"/>
</ptInPixel>
</Georect>
</spatRepInfo>
<contInfo>
<ImgDesc>
<contentTyp>
<ContentTypCd Sync="TRUE" value="001"/>
</contentTyp>
<covDim>
<Band>
<dimDescrp Sync="TRUE">Band_1</dimDescrp>
<bitsPerVal Sync="TRUE">8</bitsPerVal>
<valUnit>
<UOM type="length"/>
</valUnit>
<maxVal Sync="TRUE">223.000000</maxVal>
<minVal Sync="TRUE">0.000000</minVal>
</Band>
<Band>
<dimDescrp Sync="TRUE">Band_2</dimDescrp>
<bitsPerVal Sync="TRUE">8</bitsPerVal>
<valUnit>
<UOM type="length"/>
</valUnit>
<maxVal Sync="TRUE">206.000000</maxVal>
<minVal Sync="TRUE">0.000000</minVal>
</Band>
<Band>
<dimDescrp Sync="TRUE">Band_3</dimDescrp>
<bitsPerVal Sync="TRUE">8</bitsPerVal>
<valUnit>
<UOM type="length"/>
</valUnit>
<maxVal Sync="TRUE">178.000000</maxVal>
<minVal Sync="TRUE">0.000000</minVal>
</Band>
<Band>
<dimDescrp Sync="TRUE">Band_4</dimDescrp>
<bitsPerVal Sync="TRUE">8</bitsPerVal>
<valUnit>
<UOM type="length"/>
</valUnit>
<maxVal Sync="TRUE">238.000000</maxVal>
<minVal Sync="TRUE">0.000000</minVal>
</Band>
<Band>
<dimDescrp Sync="TRUE">Band_5</dimDescrp>
<maxVal Sync="TRUE">255.000000</maxVal>
<minVal Sync="TRUE">0.000000</minVal>
<bitsPerVal Sync="TRUE">8</bitsPerVal>
<valUnit>
<UOM type="length"/>
</valUnit>
</Band>
</covDim>
</ImgDesc>
</contInfo>
<mdDateSt Sync="TRUE">20210429</mdDateSt>
<mdContact>
<rpOrgName>Ayres Associates</rpOrgName>
<role>
<RoleCd value="006"/>
</role>
<rpCntInfo>
<cntAddress addressType="both">
<delPoint>5201 E. Terrace Dr., Suite 200</delPoint>
<city>Madison</city>
<adminArea>Wisconsin</adminArea>
<postCode>53718</postCode>
<country>US</country>
</cntAddress>
<cntPhone>
<voiceNum tddtty="">(608) 443-1200</voiceNum>
<faxNum>(608) 299-2184</faxNum>
</cntPhone>
</rpCntInfo>
<displayName>Ayres Associates</displayName>
</mdContact>
<mdMaint>
<maintFreq>
<MaintFreqCd value="011"/>
</maintFreq>
</mdMaint>
<dqInfo>
<report dimension="vertical" type="DQConcConsis">
<measDesc>Images were color corrected to match adjacent flight lines. The resulting imagery was globally tilted in terms of contrast and color to form a radiometrically consistent orthophoto mosaic.</measDesc>
</report>
<report dimension="" type="DQCompOm">
<measDesc>These data cover the entirety of the 2020 WROC Vernon County program.</measDesc>
</report>
<dataLineage>
<prcStep>
<stepDesc>Ground control consisted of photo identifiable surveyed points. The imagery was collected using a Leica ADS100 at 14.5cm GSD. Image quality was verified during the post flight review phase. Factors considered during this review included, but were not limited to, the presence of cloud cover, contrails, light conditions and sun flare. A rigorous Aerotriangulation process was performed and supplemented by the photo ID survey points. The triangulated strips were rectified to a DEM created from newly acquired LiDAR collected in 2020. The imagery was mosaicked using manual seamlines generation and tone/color balanced to a project-wide consistency. PLSS section RGBN tiles were extracted from the mosaic and each individual tile was reviewed for artifacts and anomalies and adjusted as part of quality control procedures. The images were reviewed for rectification problems such as bridge displacements and seamline issues caused by the underlying digital elevation model. When necessary, local corrections to the imagery were performed to minimize such effects. </stepDesc>
<stepDateTm>2020-05-06T00:00:00</stepDateTm>
</prcStep>
</dataLineage>
</dqInfo>
</metadata>
